BEGIN:VCALENDAR
VERSION:2.0
PRODID:-//Hawthorne Hotel - ECPv6.15.20//NONSGML v1.0//EN
CALSCALE:GREGORIAN
METHOD:PUBLISH
X-ORIGINAL-URL:https://www.hawthornehotel.com
X-WR-CALDESC:Events for Hawthorne Hotel
REFRESH-INTERVAL;VALUE=DURATION:PT1H
X-Robots-Tag:noindex
X-PUBLISHED-TTL:PT1H
BEGIN:VTIMEZONE
TZID:America/New_York
BEGIN:DAYLIGHT
TZOFFSETFROM:-0500
TZOFFSETTO:-0400
TZNAME:EDT
DTSTART:20250309T070000
END:DAYLIGHT
BEGIN:STANDARD
TZOFFSETFROM:-0400
TZOFFSETTO:-0500
TZNAME:EST
DTSTART:20251102T060000
END:STANDARD
BEGIN:DAYLIGHT
TZOFFSETFROM:-0500
TZOFFSETTO:-0400
TZNAME:EDT
DTSTART:20260308T070000
END:DAYLIGHT
BEGIN:STANDARD
TZOFFSETFROM:-0400
TZOFFSETTO:-0500
TZNAME:EST
DTSTART:20261101T060000
END:STANDARD
BEGIN:DAYLIGHT
TZOFFSETFROM:-0500
TZOFFSETTO:-0400
TZNAME:EDT
DTSTART:20270314T070000
END:DAYLIGHT
BEGIN:STANDARD
TZOFFSETFROM:-0400
TZOFFSETTO:-0500
TZNAME:EST
DTSTART:20271107T060000
END:STANDARD
END:VTIMEZONE
BEGIN:VEVENT
DTSTART;TZID=America/New_York:20260425T090000
DTEND;TZID=America/New_York:20260426T180000
DTSTAMP:20260424T043615
CREATED:20260330T145808Z
LAST-MODIFIED:20260420T151412Z
UID:10010978-1777107600-1777226400@www.hawthornehotel.com
SUMMARY:North of Boston Book Trail at Wicked Good Books
DESCRIPTION:Start the North of Boston Book Trail at Wicked Good Books! \nDon’t miss the 3rd annual North of Boston Book Trail Passport Challenge this Independent Bookstore Day\, April 25th and 26th\, or join the “Slow and Steady” challenge running from late April to Labor Day. \nJoin us and nineteen other participating independent bookstores of the North of Boston area this Independent Bookstore Day for the North of Boston Book Trail! Whether you’re looking for a hard-to-find book or the latest bestseller\, you’re sure to find it at one of the participating stores on the Trail.
URL:https://www.hawthornehotel.com/event/north-of-boston-book-trail-at-wicked-good-books/
LOCATION:Wicked Good Books\, 260 Essex Street\, Salem\, MA\, United States
CATEGORIES:Community,Entertainment,Local Events,Shop
ATTACH;FMTTYPE=image/jpeg:https://www.hawthornehotel.com/wp-content/uploads/2026/03/North-of-Boston-Book-Trail-scaled-mAdNA5.jpg
END:VEVENT
BEGIN:VEVENT
DTSTART;TZID=America/New_York:20260425T100000
DTEND;TZID=America/New_York:20260425T110000
DTSTAMP:20260424T043615
CREATED:20260330T145814Z
LAST-MODIFIED:20260420T151425Z
UID:10010981-1777111200-1777114800@www.hawthornehotel.com
SUMMARY:Fairy Spa Day | April Vacation
DESCRIPTION:Workshop Time: 10:00AM – 11:00AM\nLocation: The Good Witch of Salem Spell Studio @ 281 Essex Street Unit C3\, Salem MA 01970\nHosted By: Witch Apprentice \nLet’s have a Fairy Spa Day! Join us for a little pampering and relaxation with our Witch Apprentices. Children will create their own fairy potion and receive sparkly nails\, fancy fairy hair accessories\, and a touch of glitter with pink lips and rosy cheeks.
URL:https://www.hawthornehotel.com/event/fairy-spa-day-april-vacation-3/
LOCATION:The Good Witch of Salem’s Spell Studio\, 281 Essex Street\, Salem\, MA\, 01970\, United States
CATEGORIES:Entertainment,Family,Local Events,Shop
ATTACH;FMTTYPE=image/png:https://www.hawthornehotel.com/wp-content/uploads/2026/03/Fairy-Spa-Day-scaled-w7hvu3.png
END:VEVENT
BEGIN:VEVENT
DTSTART;TZID=America/New_York:20260425T100000
DTEND;TZID=America/New_York:20260425T170000
DTSTAMP:20260424T043615
CREATED:20260330T145814Z
LAST-MODIFIED:20260420T151413Z
UID:10010980-1777111200-1777136400@www.hawthornehotel.com
SUMMARY:Pirate Festival: Pirates! The Battle For Derby Street
DESCRIPTION:This spring\, Salem’s Derby Street waterfront transforms into a lively pirate and privateers venue as Pirates! The Battle for Derby Street takes place.  This is a swashbuckling festival packed with adventure\, history\, music\, and mischief for pirates of all ages! \nAt the heart of the festival is an epic and playful rivalry between two legendary figures:  Salem’s Captain John Turner and the Whydah Gally’s Captain “Black Sam Bellamy” – rival captains whose clash will unfold throughout the weekend in a series of theatrical encounters\, games and crowd-driven moments. Guests will be invited to cheer\, jeer and even influence the outcome of the battle as the story unfolds. \nParticipate in this bustling pirate thoroughfare along historic Derby Street in Salem with: \n\nLive pirate skirmishes and storytelling\nTreasure maps with prizes\nMusic\, shanties\, and roaming performers\nInteractive activities for kids and families\nArtisan merchants\, food\, and grog worthy treats\nCostumes\, photo ops and plenty of surprises!\n\nWhether you arrive dressed as a pirate or just ready for fun\, Pirates! The Battle for Derby Street promises laughter\, spectacle and unforgettable memories.
URL:https://www.hawthornehotel.com/event/pirate-festival-pirates-the-battle-for-derby-street-2/
LOCATION:Derby Street\, Derby Street\, Salem\, MA\, 01970\, United States
CATEGORIES:Community,Costume Party,Entertainment,Family,History,Local Events,Music
ATTACH;FMTTYPE=image/jpeg:https://www.hawthornehotel.com/wp-content/uploads/2026/03/Pirates-TBFDS-2000x2000-1-aMHtzA.jpg
END:VEVENT
BEGIN:VEVENT
DTSTART;TZID=America/New_York:20260425T100000
DTEND;TZID=America/New_York:20260425T223000
DTSTAMP:20260424T043615
CREATED:20260330T145814Z
LAST-MODIFIED:20260420T151413Z
UID:10010979-1777111200-1777156200@www.hawthornehotel.com
SUMMARY:Fiber Witch Festival
DESCRIPTION:Come to the Salem Fiber Witch Festival hosted by practicing witches in historic downtown Salem\, Massachusetts\, aka the Witch City! \nThe main event is the Fiber Witch Market. Our Fiber Witch Market is hosted at Old Town Hall\, which you may recognize from the beloved 90s movie\, Hocus Pocus\, and features indie yarn\, farm yarn\, arts\, and handmade goods with a witchy vibe. \nThe festival also includes exclusive tours around Salem\, an exclusive party at the Hotel Salem\, workshops\, and more!
URL:https://www.hawthornehotel.com/event/fiber-witch-festival-2/
LOCATION:Circle of Stitches\, 78 Wharf Street\, Salem\, MA\, 01970\, United States
CATEGORIES:Community,Local Events,Modern Witch,Shop
ATTACH;FMTTYPE=image/jpeg:https://www.hawthornehotel.com/wp-content/uploads/2026/03/FiberWitchFest-Postcard2024-hUCAAM.jpg
END:VEVENT
BEGIN:VEVENT
DTSTART;TZID=America/New_York:20260425T110000
DTEND;TZID=America/New_York:20260425T163000
DTSTAMP:20260424T043615
CREATED:20260330T145815Z
LAST-MODIFIED:20260420T151425Z
UID:10010982-1777114800-1777134600@www.hawthornehotel.com
SUMMARY:School Break Special: Kid Portraits at Witch Pix
DESCRIPTION:A kid-only witchy portrait session offering four fun styles for a quick\, imaginative Salem experience. For a limited time\, young visitors can enjoy a brief witchy portrait designed for vacation fun in Salem. Children pick one of four signature styles—Graveyard Magic\, Crystal Ball Witchery\, 1692 Glamour\, or Earth Witch—and step into character with simple costume pieces. The session blends creativity\, history\, and play\, producing a small gallery of expressive images.
URL:https://www.hawthornehotel.com/event/school-break-special-kid-portraits-at-witch-pix-6/
LOCATION:Witch Pix\, 172 Essex Street\, Salem\, MA\, 01970\, United States
CATEGORIES:Art,Entertainment,Family,Local Events,Museums & Attractions
ATTACH;FMTTYPE=image/jpeg:https://www.hawthornehotel.com/wp-content/uploads/2026/03/Kids-Vacation-Web-Square-VmqmzZ.jpg
END:VEVENT
BEGIN:VEVENT
DTSTART;TZID=America/New_York:20260425T113000
DTEND;TZID=America/New_York:20260425T123000
DTSTAMP:20260424T043615
CREATED:20260330T145815Z
LAST-MODIFIED:20260420T151425Z
UID:10010983-1777116600-1777120200@www.hawthornehotel.com
SUMMARY:Saturday Morning Run Club
DESCRIPTION:Join us for a 5K run or 1 mile run/walk and then enjoy beer or coffee with fellow runners — all are welcome (including sporty pups!). Prizes at every 5th run\, and also at milestones of 10\, 25\, and 50 total runs.
URL:https://www.hawthornehotel.com/event/saturday-morning-run-club-2/
LOCATION:Couch Dog Brewing Co.\, 76 Lafayette Street\, Salem\, 01970\, United States
CATEGORIES:Community,Free,Local Events,Outdoors
ATTACH;FMTTYPE=image/png:https://www.hawthornehotel.com/wp-content/uploads/2026/01/runclubtee_neongreen-scaled-SM9Qvc.png
END:VEVENT
BEGIN:VEVENT
DTSTART;TZID=America/New_York:20260425T140000
DTEND;TZID=America/New_York:20260425T150000
DTSTAMP:20260424T043615
CREATED:20260330T145822Z
LAST-MODIFIED:20260420T151426Z
UID:10011000-1777125600-1777129200@www.hawthornehotel.com
SUMMARY:Field Studies (Symbiosis) Performance and Q&A
DESCRIPTION:Field Studies (Symbiosis) looks at forest ecology from a variety of perspectives\, beginning with an aerial overview of the Canadian Boreal Forest and moving through the dynamic processes that shape the landscape\, including wind\, water\, pollination and the hidden forest communication channels of the micro-rhizomes in the soil. Three multidisciplinary artists collaborated over nine months and completed a weeklong residency at PEM to produce this 30-minute performance-based installation. Their project engaged the natural world through deep investigations of the land\, siting filming in the wild and collaborating with natural scientists.
URL:https://www.hawthornehotel.com/event/field-studies-symbiosis-performance-and-qa/
LOCATION:Peabody Essex Museum\, 161 Essex Street\, Salem\, MA\, 01970\, United States
CATEGORIES:Art,Community,Local Events,Museums & Attractions
ATTACH;FMTTYPE=image/jpeg:https://www.hawthornehotel.com/wp-content/uploads/2026/03/Field-Studies-Symbiosis-Performance-and-QA-jmAO3g.jpg
END:VEVENT
BEGIN:VEVENT
DTSTART;TZID=America/New_York:20260425T140000
DTEND;TZID=America/New_York:20260425T220000
DTSTAMP:20260424T043615
CREATED:20260420T151354Z
LAST-MODIFIED:20260420T151426Z
UID:10011095-1777125600-1777154400@www.hawthornehotel.com
SUMMARY:Patch Festival Weekend
DESCRIPTION:Patch Festival Weekend at Far From The Tree\n108 Jackson Street\, Salem\, MA\nPatch Cider is BACK—and we’re bringing it back in style \nSaturday 4/25\nLive Music with Ryan Kelleher (2PM–5PM)\nLinks Studio Permanent Jewelry (2PM–5PM)\nFirst 30 guests to purchase a flight get a Funhouse Donuts’ donut on us! \nSunday 4/26\nEdex Pop-Up (1PM–4PM)\nCrochet Class hosted by The Knit and Kaboodle (5PM–7PM) \nGrab your friends\, sip some cider\, and spend the weekend with us!
URL:https://www.hawthornehotel.com/event/patch-festival-weekend/
LOCATION:Far From the Tree\, 108 Jackson Street\, Salem\, MA\, United States
CATEGORIES:Community,Food & Drinks,Free,Local Events,Outdoors
ATTACH;FMTTYPE=image/jpeg:https://www.hawthornehotel.com/wp-content/uploads/2026/04/Far-From-the-Tree-Patch-Festival-scaled-unyJ4q.jpg
END:VEVENT
BEGIN:VEVENT
DTSTART;TZID=America/New_York:20260425T193000
DTEND;TZID=America/New_York:20260425T220000
DTSTAMP:20260424T043615
CREATED:20260413T145922Z
LAST-MODIFIED:20260420T151426Z
UID:10011062-1777145400-1777154400@www.hawthornehotel.com
SUMMARY:Sweeney Todd: The Demon Barber of Fleet Street
DESCRIPTION:Attend the dark\, witty and Tony Award-winning tale of love\, murder and revenge set against the backdrop of 19th century London. \nSweeney Todd has become a bloody\, worldwide success since being awarded eight Tony’s\, (including Best Musical)\, for its Broadway premiere. Stephen Sondheim’s and Hugh Wheeler’s (A Little Night Music\, Pacific Overtures) tasty\, thrilling\, theatrical treat has simultaneously shocked\, awed and delighted audiences across the world. \nFor mature audiences.
URL:https://www.hawthornehotel.com/event/sweeney-todd-the-demon-barber-of-fleet-street-5/
LOCATION:Sophia Gordon Center for Creative and Performing Arts\, 356 Lafayette Street\, Salem\, MA\, 01970\, United States
CATEGORIES:Entertainment,Local Events,Theater & Musicals
ATTACH;FMTTYPE=image/jpeg:https://www.hawthornehotel.com/wp-content/uploads/2026/04/Sweeney-by-AOT-c3k3FS.jpg
END:VEVENT
BEGIN:VEVENT
DTSTART;TZID=America/New_York:20260425T200000
DTEND;TZID=America/New_York:20260425T220000
DTSTAMP:20260424T043615
CREATED:20260406T150006Z
LAST-MODIFIED:20260420T151426Z
UID:10011010-1777147200-1777154400@www.hawthornehotel.com
SUMMARY:The Wailin’ Jennys
DESCRIPTION:The Wailin’ Jennys Are Nicky Mehta\, Ruth Moody And Heather Masse — Three Distinct Voices That Together Make An Achingly Perfect Vocal Sound. \nStarting as a happy accident of solo singer/songwriters getting together for a one-time-only performance at a tiny guitar shop in Winnipeg\, Manitoba\, The Wailin’ Jennys have grown over the years into one of today’s most beloved international folk acts.
URL:https://www.hawthornehotel.com/event/the-wailin-jennys/
LOCATION:The Cabot\, 286 Cabot Street\, Beverly\, MA\, 01915\, United States
CATEGORIES:Beyond Salem,Entertainment,Local Events,Music
ATTACH;FMTTYPE=image/jpeg:https://www.hawthornehotel.com/wp-content/uploads/2026/04/DSCF2133-scaled-pWV90b.jpg
END:VEVENT
BEGIN:VEVENT
DTSTART;TZID=America/New_York:20260425T200000
DTEND;TZID=America/New_York:20260425T230000
DTSTAMP:20260424T043615
CREATED:20260413T145923Z
LAST-MODIFIED:20260420T151426Z
UID:10011063-1777147200-1777158000@www.hawthornehotel.com
SUMMARY:Justin Jabbo Martin!
DESCRIPTION:Jabbo’s bringing good tunes and acoustic blues to the Gulu Gulu Cafe!
URL:https://www.hawthornehotel.com/event/justin-jabbo-martin/
LOCATION:Gulu-Gulu Cafe\, 247 Essex Street\, Salem\, MA\, 01970\, United States
CATEGORIES:Entertainment,Free,Local Events,Music,Nightlife
ATTACH;FMTTYPE=image/png:https://www.hawthornehotel.com/wp-content/uploads/2026/04/jabbo-ixDQlA.png
END:VEVENT
END:VCALENDAR