BEGIN:VCALENDAR
VERSION:2.0
PRODID:-//Hawthorne Hotel - ECPv6.15.20//NONSGML v1.0//EN
CALSCALE:GREGORIAN
METHOD:PUBLISH
X-WR-CALNAME:Hawthorne Hotel
X-ORIGINAL-URL:https://www.hawthornehotel.com
X-WR-CALDESC:Events for Hawthorne Hotel
REFRESH-INTERVAL;VALUE=DURATION:PT1H
X-Robots-Tag:noindex
X-PUBLISHED-TTL:PT1H
BEGIN:VTIMEZONE
TZID:America/New_York
BEGIN:DAYLIGHT
TZOFFSETFROM:-0500
TZOFFSETTO:-0400
TZNAME:EDT
DTSTART:20250309T070000
END:DAYLIGHT
BEGIN:STANDARD
TZOFFSETFROM:-0400
TZOFFSETTO:-0500
TZNAME:EST
DTSTART:20251102T060000
END:STANDARD
BEGIN:DAYLIGHT
TZOFFSETFROM:-0500
TZOFFSETTO:-0400
TZNAME:EDT
DTSTART:20260308T070000
END:DAYLIGHT
BEGIN:STANDARD
TZOFFSETFROM:-0400
TZOFFSETTO:-0500
TZNAME:EST
DTSTART:20261101T060000
END:STANDARD
BEGIN:DAYLIGHT
TZOFFSETFROM:-0500
TZOFFSETTO:-0400
TZNAME:EDT
DTSTART:20270314T070000
END:DAYLIGHT
BEGIN:STANDARD
TZOFFSETFROM:-0400
TZOFFSETTO:-0500
TZNAME:EST
DTSTART:20271107T060000
END:STANDARD
END:VTIMEZONE
BEGIN:VEVENT
DTSTART;TZID=America/New_York:20260426T120000
DTEND;TZID=America/New_York:20260426T140000
DTSTAMP:20260421T125526
CREATED:20260330T145815Z
LAST-MODIFIED:20260420T151440Z
UID:10010988-1777204800-1777212000@www.hawthornehotel.com
SUMMARY:Notch Run Club Sundays!
DESCRIPTION:Meters for Liters is a weekly group run from the Tap Room. This is not a race\, just a chance to get out and earn some cold beer. When we get back to the brewery\, there will be plenty of beer and free pretzel bites for runners! On Sundays\, choose from a 5k or 10k distance. Open to ALL abilities. \nNo sign up is required but you do have the option to “sign in” before the run. Meet at the Tap Room at 12:00pm.
URL:https://www.hawthornehotel.com/event/notch-run-club-sundays-4/
LOCATION:Notch Brewing\, 283R Derby Street\, Salem\, MA\, 01970\, United States
CATEGORIES:Entertainment,Local Events
ATTACH;FMTTYPE=image/jpeg:https://www.hawthornehotel.com/wp-content/uploads/2026/03/CM204632-scaled-iLr3QL.jpg
END:VEVENT
BEGIN:VEVENT
DTSTART;TZID=America/New_York:20260503T120000
DTEND;TZID=America/New_York:20260503T140000
DTSTAMP:20260421T125526
CREATED:20260406T150111Z
LAST-MODIFIED:20260420T151539Z
UID:10011033-1777809600-1777816800@www.hawthornehotel.com
SUMMARY:Notch Run Club Sundays!
DESCRIPTION:Meters for Liters is a weekly group run from the Tap Room. This is not a race\, just a chance to get out and earn some cold beer. When we get back to the brewery\, there will be plenty of beer and free pretzel bites for runners! On Sundays\, choose from a 5k or 10k distance. Open to ALL abilities. \nNo sign up is required but you do have the option to “sign in” before the run. Meet at the Tap Room at 12:00pm.
URL:https://www.hawthornehotel.com/event/notch-run-club-sundays-5/
LOCATION:Notch Brewing\, 283R Derby Street\, Salem\, MA\, 01970\, United States
CATEGORIES:Entertainment,Local Events
ATTACH;FMTTYPE=image/jpeg:https://www.hawthornehotel.com/wp-content/uploads/2026/03/CM204632-scaled-iLr3QL.jpg
END:VEVENT
BEGIN:VEVENT
DTSTART;TZID=America/New_York:20260510T120000
DTEND;TZID=America/New_York:20260510T140000
DTSTAMP:20260421T125526
CREATED:20260413T150106Z
LAST-MODIFIED:20260420T151612Z
UID:10011085-1778414400-1778421600@www.hawthornehotel.com
SUMMARY:Notch Run Club Sundays!
DESCRIPTION:Meters for Liters is a weekly group run from the Tap Room. This is not a race\, just a chance to get out and earn some cold beer. When we get back to the brewery\, there will be plenty of beer and free pretzel bites for runners! On Sundays\, choose from a 5k or 10k distance. Open to ALL abilities. \nNo sign up is required but you do have the option to “sign in” before the run. Meet at the Tap Room at 12:00pm.
URL:https://www.hawthornehotel.com/event/notch-run-club-sundays/
LOCATION:Notch Brewing\, 283R Derby Street\, Salem\, MA\, 01970\, United States
CATEGORIES:Entertainment,Local Events
ATTACH;FMTTYPE=image/jpeg:https://www.hawthornehotel.com/wp-content/uploads/2026/03/CM204632-scaled-iLr3QL.jpg
END:VEVENT
BEGIN:VEVENT
DTSTART;TZID=America/New_York:20260517T120000
DTEND;TZID=America/New_York:20260517T140000
DTSTAMP:20260421T125526
CREATED:20260420T151646Z
LAST-MODIFIED:20260420T151646Z
UID:10011113-1779019200-1779026400@www.hawthornehotel.com
SUMMARY:Notch Run Club Sundays!
DESCRIPTION:Meters for Liters is a weekly group run from the Tap Room. This is not a race\, just a chance to get out and earn some cold beer. When we get back to the brewery\, there will be plenty of beer and free pretzel bites for runners! On Sundays\, choose from a 5k or 10k distance. Open to ALL abilities. \nNo sign up is required but you do have the option to “sign in” before the run. Meet at the Tap Room at 12:00pm.
URL:https://www.hawthornehotel.com/event/notch-run-club-sundays-6/
LOCATION:Notch Brewing\, 283R Derby Street\, Salem\, MA\, 01970\, United States
CATEGORIES:Entertainment,Local Events
ATTACH;FMTTYPE=image/jpeg:https://www.hawthornehotel.com/wp-content/uploads/2026/03/CM204632-scaled-iLr3QL.jpg
END:VEVENT
END:VCALENDAR