BEGIN:VCALENDAR
VERSION:2.0
PRODID:-//Hawthorne Hotel - ECPv6.15.20//NONSGML v1.0//EN
CALSCALE:GREGORIAN
METHOD:PUBLISH
X-WR-CALNAME:Hawthorne Hotel
X-ORIGINAL-URL:https://www.hawthornehotel.com
X-WR-CALDESC:Events for Hawthorne Hotel
REFRESH-INTERVAL;VALUE=DURATION:PT1H
X-Robots-Tag:noindex
X-PUBLISHED-TTL:PT1H
BEGIN:VTIMEZONE
TZID:America/New_York
BEGIN:DAYLIGHT
TZOFFSETFROM:-0500
TZOFFSETTO:-0400
TZNAME:EDT
DTSTART:20250309T070000
END:DAYLIGHT
BEGIN:STANDARD
TZOFFSETFROM:-0400
TZOFFSETTO:-0500
TZNAME:EST
DTSTART:20251102T060000
END:STANDARD
BEGIN:DAYLIGHT
TZOFFSETFROM:-0500
TZOFFSETTO:-0400
TZNAME:EDT
DTSTART:20260308T070000
END:DAYLIGHT
BEGIN:STANDARD
TZOFFSETFROM:-0400
TZOFFSETTO:-0500
TZNAME:EST
DTSTART:20261101T060000
END:STANDARD
BEGIN:DAYLIGHT
TZOFFSETFROM:-0500
TZOFFSETTO:-0400
TZNAME:EDT
DTSTART:20270314T070000
END:DAYLIGHT
BEGIN:STANDARD
TZOFFSETFROM:-0400
TZOFFSETTO:-0500
TZNAME:EST
DTSTART:20271107T060000
END:STANDARD
END:VTIMEZONE
BEGIN:VEVENT
DTSTART;TZID=America/New_York:20260421T190000
DTEND;TZID=America/New_York:20260421T210000
DTSTAMP:20260421T073638
CREATED:20260323T151355Z
LAST-MODIFIED:20260420T151351Z
UID:10010939-1776798000-1776805200@www.hawthornehotel.com
SUMMARY:Tuesday Trivia @ ERBC
DESCRIPTION:Join us for a 5 rounds of general-knowledge pub trivia! One finally Jeopardy-style question for all the marbles–winning team goes home with a gift card and bragging rights!
URL:https://www.hawthornehotel.com/event/tuesday-trivia-erbc-5/
LOCATION:East Regiment Beer Company\, 30 Church St\, Salem\, MA\, 01970\, United States
CATEGORIES:Community,Entertainment,Food & Drinks,Free,Local Events,Nightlife
ATTACH;FMTTYPE=image/jpeg:https://www.hawthornehotel.com/wp-content/uploads/2026/01/ERBC-Trivia-Tuesday-scaled-sMeBi0.jpg
END:VEVENT
END:VCALENDAR