BEGIN:VCALENDAR
VERSION:2.0
PRODID:-//Hawthorne Hotel - ECPv6.15.20//NONSGML v1.0//EN
CALSCALE:GREGORIAN
METHOD:PUBLISH
X-WR-CALNAME:Hawthorne Hotel
X-ORIGINAL-URL:https://www.hawthornehotel.com
X-WR-CALDESC:Events for Hawthorne Hotel
REFRESH-INTERVAL;VALUE=DURATION:PT1H
X-Robots-Tag:noindex
X-PUBLISHED-TTL:PT1H
BEGIN:VTIMEZONE
TZID:America/New_York
BEGIN:DAYLIGHT
TZOFFSETFROM:-0500
TZOFFSETTO:-0400
TZNAME:EDT
DTSTART:20250309T070000
END:DAYLIGHT
BEGIN:STANDARD
TZOFFSETFROM:-0400
TZOFFSETTO:-0500
TZNAME:EST
DTSTART:20251102T060000
END:STANDARD
BEGIN:DAYLIGHT
TZOFFSETFROM:-0500
TZOFFSETTO:-0400
TZNAME:EDT
DTSTART:20260308T070000
END:DAYLIGHT
BEGIN:STANDARD
TZOFFSETFROM:-0400
TZOFFSETTO:-0500
TZNAME:EST
DTSTART:20261101T060000
END:STANDARD
BEGIN:DAYLIGHT
TZOFFSETFROM:-0500
TZOFFSETTO:-0400
TZNAME:EDT
DTSTART:20270314T070000
END:DAYLIGHT
BEGIN:STANDARD
TZOFFSETFROM:-0400
TZOFFSETTO:-0500
TZNAME:EST
DTSTART:20271107T060000
END:STANDARD
END:VTIMEZONE
BEGIN:VEVENT
DTSTART;TZID=America/New_York:20260425T100000
DTEND;TZID=America/New_York:20260425T170000
DTSTAMP:20260420T163729
CREATED:20260330T145814Z
LAST-MODIFIED:20260420T151413Z
UID:10010980-1777111200-1777136400@www.hawthornehotel.com
SUMMARY:Pirate Festival: Pirates! The Battle For Derby Street
DESCRIPTION:This spring\, Salem’s Derby Street waterfront transforms into a lively pirate and privateers venue as Pirates! The Battle for Derby Street takes place.  This is a swashbuckling festival packed with adventure\, history\, music\, and mischief for pirates of all ages! \nAt the heart of the festival is an epic and playful rivalry between two legendary figures:  Salem’s Captain John Turner and the Whydah Gally’s Captain “Black Sam Bellamy” – rival captains whose clash will unfold throughout the weekend in a series of theatrical encounters\, games and crowd-driven moments. Guests will be invited to cheer\, jeer and even influence the outcome of the battle as the story unfolds. \nParticipate in this bustling pirate thoroughfare along historic Derby Street in Salem with: \n\nLive pirate skirmishes and storytelling\nTreasure maps with prizes\nMusic\, shanties\, and roaming performers\nInteractive activities for kids and families\nArtisan merchants\, food\, and grog worthy treats\nCostumes\, photo ops and plenty of surprises!\n\nWhether you arrive dressed as a pirate or just ready for fun\, Pirates! The Battle for Derby Street promises laughter\, spectacle and unforgettable memories.
URL:https://www.hawthornehotel.com/event/pirate-festival-pirates-the-battle-for-derby-street-2/
LOCATION:Derby Street\, Derby Street\, Salem\, MA\, 01970\, United States
CATEGORIES:Community,Costume Party,Entertainment,Family,History,Local Events,Music
ATTACH;FMTTYPE=image/jpeg:https://www.hawthornehotel.com/wp-content/uploads/2026/03/Pirates-TBFDS-2000x2000-1-aMHtzA.jpg
END:VEVENT
END:VCALENDAR