BEGIN:VCALENDAR
VERSION:2.0
PRODID:-//Hawthorne Hotel - ECPv6.15.20//NONSGML v1.0//EN
CALSCALE:GREGORIAN
METHOD:PUBLISH
X-WR-CALNAME:Hawthorne Hotel
X-ORIGINAL-URL:https://www.hawthornehotel.com
X-WR-CALDESC:Events for Hawthorne Hotel
REFRESH-INTERVAL;VALUE=DURATION:PT1H
X-Robots-Tag:noindex
X-PUBLISHED-TTL:PT1H
BEGIN:VTIMEZONE
TZID:America/New_York
BEGIN:DAYLIGHT
TZOFFSETFROM:-0500
TZOFFSETTO:-0400
TZNAME:EDT
DTSTART:20250309T070000
END:DAYLIGHT
BEGIN:STANDARD
TZOFFSETFROM:-0400
TZOFFSETTO:-0500
TZNAME:EST
DTSTART:20251102T060000
END:STANDARD
BEGIN:DAYLIGHT
TZOFFSETFROM:-0500
TZOFFSETTO:-0400
TZNAME:EDT
DTSTART:20260308T070000
END:DAYLIGHT
BEGIN:STANDARD
TZOFFSETFROM:-0400
TZOFFSETTO:-0500
TZNAME:EST
DTSTART:20261101T060000
END:STANDARD
BEGIN:DAYLIGHT
TZOFFSETFROM:-0500
TZOFFSETTO:-0400
TZNAME:EDT
DTSTART:20270314T070000
END:DAYLIGHT
BEGIN:STANDARD
TZOFFSETFROM:-0400
TZOFFSETTO:-0500
TZNAME:EST
DTSTART:20271107T060000
END:STANDARD
END:VTIMEZONE
BEGIN:VEVENT
DTSTART;TZID=America/New_York:20260501T103000
DTEND;TZID=America/New_York:20260501T113000
DTSTAMP:20260420T105128
CREATED:20260406T150045Z
LAST-MODIFIED:20260413T150007Z
UID:10011019-1777631400-1777635000@www.hawthornehotel.com
SUMMARY:Our Favorite Day
DESCRIPTION:Join us for a reading of the book Our Favorite Day by Joowon Oh. \nFollow Papa as he goes about his favorite day of the week: Thursday\, when he gets to eat dumplings\, fly kites and go on other everyday adventures with his grandchild. Korean writer-illustrator Joowon Oh brings this family story to life through warm watercolor and cut-paper artwork. \nAfter the reading\, be sure to visit PEM’s Korean Art gallery. \nDesigned for children (5 and under) and their caregivers\, PEM Pals aims to engage and excite all of the senses through books\, movement\, music\, art and hands-on activities. Held on the fir
URL:https://www.hawthornehotel.com/event/our-favorite-day/
LOCATION:Peabody Essex Museum\, 161 Essex Street\, Salem\, MA\, 01970\, United States
CATEGORIES:Art,Family,Local Events,Museums & Attractions
ATTACH;FMTTYPE=image/jpeg:https://www.hawthornehotel.com/wp-content/uploads/2026/04/Our-Favorite-Day-Anx54S.jpg
END:VEVENT
BEGIN:VEVENT
DTSTART;TZID=America/New_York:20260501T173000
DTEND;TZID=America/New_York:20260501T193000
DTSTAMP:20260420T105128
CREATED:20260406T150047Z
LAST-MODIFIED:20260413T150008Z
UID:10011023-1777656600-1777663800@www.hawthornehotel.com
SUMMARY:Hello Day: Salem Says Hello… Again
DESCRIPTION:On May 1\, 1971\, Mayor Samuel Zoll proclaimed it “Hello Day.” Fire station bells rang across Salem at noon. Residents poured into the streets — along Essex Street\, across the Common — to do something radical in its simplicity: say hello to each other. \nA rock band made up of Salem High students played on the Common. A conceptual artist circled overhead in a plane\, photographing the whole thing from above. Channel 5 showed up. A teenager named Marian Sonier told the Salem Evening News it was the best time she’d had in months. \nSalem did this two years before the rest of the world even had the idea. \nNow Salem turns 400\, and we’re bringing it back.
URL:https://www.hawthornehotel.com/event/hello-day-salem-says-hello-again/
LOCATION:Peabody Essex Museum\, 161 Essex Street\, Salem\, MA\, 01970\, United States
CATEGORIES:Community,Family,Free,Local Events,Music,Salem 400+
ATTACH;FMTTYPE=image/jpeg:https://www.hawthornehotel.com/wp-content/uploads/2026/04/Hello-Day-Creative-Collective-scaled-7lYvS7.jpg
END:VEVENT
BEGIN:VEVENT
DTSTART;TZID=America/New_York:20260509T103000
DTEND;TZID=America/New_York:20260509T153000
DTSTAMP:20260420T105128
CREATED:20260413T150050Z
LAST-MODIFIED:20260413T150050Z
UID:10011079-1778322600-1778340600@www.hawthornehotel.com
SUMMARY:Creative Foundations: Cyanotypes
DESCRIPTION:Celebrate Knowing Nature: Stories of the Boreal Forest with a guided tour and workshop! \nFirst\, go inside the exhibition with Jane Winchell\, PEM’s Sarah Fraser Robbins Director of The Dotty Brown Art & Nature Center and Curator of Natural History\, and discover the biodiversity and global importance of our northernmost forests. Afterward\, join artist Patricia Scialo to learn how to make cyanotype prints: a “cameraless photography” technique using treated paper that chemically reacts to sunlight. Reflect on the exhibition and your own connection to nature by creating\, exposing and processing your cyanotype print. This workshop will also provide resources\, ideas and methods to further explore cyanotypes at home. \nThis class is perfect for beginners or those returning to art after a break. All supplies are provided\, and participants will take home essential materials so they can continue practicing at home.
URL:https://www.hawthornehotel.com/event/creative-foundations-cyanotypes/
LOCATION:Peabody Essex Museum\, 161 Essex Street\, Salem\, MA\, 01970\, United States
CATEGORIES:Art,Entertainment,Local Events,Museums & Attractions
ATTACH;FMTTYPE=image/jpeg:https://www.hawthornehotel.com/wp-content/uploads/2026/04/Creative-Foundations-Cyanotypes-XCEbGb.jpg
END:VEVENT
END:VCALENDAR