BEGIN:VCALENDAR
VERSION:2.0
PRODID:-//Hawthorne Hotel - ECPv6.15.20//NONSGML v1.0//EN
CALSCALE:GREGORIAN
METHOD:PUBLISH
X-WR-CALNAME:Hawthorne Hotel
X-ORIGINAL-URL:https://www.hawthornehotel.com
X-WR-CALDESC:Events for Hawthorne Hotel
REFRESH-INTERVAL;VALUE=DURATION:PT1H
X-Robots-Tag:noindex
X-PUBLISHED-TTL:PT1H
BEGIN:VTIMEZONE
TZID:America/New_York
BEGIN:DAYLIGHT
TZOFFSETFROM:-0500
TZOFFSETTO:-0400
TZNAME:EDT
DTSTART:20250309T070000
END:DAYLIGHT
BEGIN:STANDARD
TZOFFSETFROM:-0400
TZOFFSETTO:-0500
TZNAME:EST
DTSTART:20251102T060000
END:STANDARD
BEGIN:DAYLIGHT
TZOFFSETFROM:-0500
TZOFFSETTO:-0400
TZNAME:EDT
DTSTART:20260308T070000
END:DAYLIGHT
BEGIN:STANDARD
TZOFFSETFROM:-0400
TZOFFSETTO:-0500
TZNAME:EST
DTSTART:20261101T060000
END:STANDARD
BEGIN:DAYLIGHT
TZOFFSETFROM:-0500
TZOFFSETTO:-0400
TZNAME:EDT
DTSTART:20270314T070000
END:DAYLIGHT
BEGIN:STANDARD
TZOFFSETFROM:-0400
TZOFFSETTO:-0500
TZNAME:EST
DTSTART:20271107T060000
END:STANDARD
END:VTIMEZONE
BEGIN:VEVENT
DTSTART;TZID=America/New_York:20260420T090000
DTEND;TZID=America/New_York:20260420T160000
DTSTAMP:20260420T090604
CREATED:20260323T151406Z
LAST-MODIFIED:20260413T145821Z
UID:10010945-1776675600-1776700800@www.hawthornehotel.com
SUMMARY:Creative Kids: Knowing Nature
DESCRIPTION:Creative Kids: Knowing Nature will engage students ages 11–13 with PEM’s current exhibition Knowing Nature: Stories of the Boreal Forest and the interactive Art & Nature Center. Students will spend the week exploring themes of the natural world\, trekking through the gardens and green spaces on PEM’s campus and making art\, writing and creating multimedia works in response to their experiences. \nProgram is one week long. Program runs Monday\, April 20–Friday\, April 24\, 2026.
URL:https://www.hawthornehotel.com/event/creative-kids-knowing-nature/
LOCATION:Peabody Essex Museum\, 161 Essex Street\, Salem\, MA\, 01970\, United States
CATEGORIES:Art,Family,Local Events,Museums & Attractions
ATTACH;FMTTYPE=image/jpeg:https://www.hawthornehotel.com/wp-content/uploads/2026/03/Knowing-Nature-v3273e.jpg
END:VEVENT
BEGIN:VEVENT
DTSTART;TZID=America/New_York:20260420T103000
DTEND;TZID=America/New_York:20260420T120000
DTSTAMP:20260420T090605
CREATED:20260323T151408Z
LAST-MODIFIED:20260413T145822Z
UID:10010946-1776681000-1776686400@www.hawthornehotel.com
SUMMARY:Live Animal Encounter with Joy Marzolf
DESCRIPTION:Know before you go \nIn-person\nLocation: Main Atrium \nIncluded with admission\nChildren and youth under age 16 always receive free admission! \nLearn about forest animals here in New England and around the world. Animals of the forest have special adaptations to survive. How do they find food and avoid predators? How do some species deal with extreme temperatures and other challenges? Come find out as you meet some forest animals up close and learn more about their wild relatives.
URL:https://www.hawthornehotel.com/event/live-animal-encounter-with-joy-marzolf/
LOCATION:Peabody Essex Museum\, 161 Essex Street\, Salem\, MA\, 01970\, United States
CATEGORIES:Entertainment,Family,Local Events,Museums & Attractions
ATTACH;FMTTYPE=image/jpeg:https://www.hawthornehotel.com/wp-content/uploads/2026/03/PEM-Animals-1-ECo9bu.jpg
END:VEVENT
BEGIN:VEVENT
DTSTART;TZID=America/New_York:20260421T090000
DTEND;TZID=America/New_York:20260421T160000
DTSTAMP:20260420T090605
CREATED:20260323T151415Z
LAST-MODIFIED:20260413T145835Z
UID:10010938-1776762000-1776787200@www.hawthornehotel.com
SUMMARY:Creative Kids: Knowing Nature
DESCRIPTION:Creative Kids: Knowing Nature will engage students ages 11–13 with PEM’s current exhibition Knowing Nature: Stories of the Boreal Forest and the interactive Art & Nature Center. Students will spend the week exploring themes of the natural world\, trekking through the gardens and green spaces on PEM’s campus and making art\, writing and creating multimedia works in response to their experiences. \nProgram is one week long. Program runs Monday\, April 20–Friday\, April 24\, 2026.
URL:https://www.hawthornehotel.com/event/creative-kids-knowing-nature-2/
LOCATION:Peabody Essex Museum\, 161 Essex Street\, Salem\, MA\, 01970\, United States
CATEGORIES:Art,Family,Local Events,Museums & Attractions
ATTACH;FMTTYPE=image/jpeg:https://www.hawthornehotel.com/wp-content/uploads/2026/03/Knowing-Nature-v3273e.jpg
END:VEVENT
BEGIN:VEVENT
DTSTART;TZID=America/New_York:20260422T090000
DTEND;TZID=America/New_York:20260422T160000
DTSTAMP:20260420T090605
CREATED:20260323T151416Z
LAST-MODIFIED:20260413T145836Z
UID:10010940-1776848400-1776873600@www.hawthornehotel.com
SUMMARY:Creative Kids: Knowing Nature
DESCRIPTION:Creative Kids: Knowing Nature will engage students ages 11–13 with PEM’s current exhibition Knowing Nature: Stories of the Boreal Forest and the interactive Art & Nature Center. Students will spend the week exploring themes of the natural world\, trekking through the gardens and green spaces on PEM’s campus and making art\, writing and creating multimedia works in response to their experiences. \nProgram is one week long. Program runs Monday\, April 20–Friday\, April 24\, 2026.
URL:https://www.hawthornehotel.com/event/creative-kids-knowing-nature-3/
LOCATION:Peabody Essex Museum\, 161 Essex Street\, Salem\, MA\, 01970\, United States
CATEGORIES:Art,Family,Local Events,Museums & Attractions
ATTACH;FMTTYPE=image/jpeg:https://www.hawthornehotel.com/wp-content/uploads/2026/03/Knowing-Nature-v3273e.jpg
END:VEVENT
BEGIN:VEVENT
DTSTART;TZID=America/New_York:20260423T090000
DTEND;TZID=America/New_York:20260423T160000
DTSTAMP:20260420T090605
CREATED:20260330T145819Z
LAST-MODIFIED:20260413T145839Z
UID:10010996-1776934800-1776960000@www.hawthornehotel.com
SUMMARY:Creative Kids: Knowing Nature
DESCRIPTION:Creative Kids: Knowing Nature will engage students ages 11–13 with PEM’s current exhibition Knowing Nature: Stories of the Boreal Forest and the interactive Art & Nature Center. Students will spend the week exploring themes of the natural world\, trekking through the gardens and green spaces on PEM’s campus and making art\, writing and creating multimedia works in response to their experiences. \nProgram is one week long. Program runs Monday\, April 20–Friday\, April 24\, 2026.
URL:https://www.hawthornehotel.com/event/creative-kids-knowing-nature-4/
LOCATION:Peabody Essex Museum\, 161 Essex Street\, Salem\, MA\, 01970\, United States
CATEGORIES:Art,Family,Local Events,Museums & Attractions
ATTACH;FMTTYPE=image/jpeg:https://www.hawthornehotel.com/wp-content/uploads/2026/03/Knowing-Nature-v3273e.jpg
END:VEVENT
BEGIN:VEVENT
DTSTART;TZID=America/New_York:20260423T110000
DTEND;TZID=America/New_York:20260423T150000
DTSTAMP:20260420T090605
CREATED:20260330T145820Z
LAST-MODIFIED:20260413T145839Z
UID:10010997-1776942000-1776956400@www.hawthornehotel.com
SUMMARY:Cedar Bark Mat Weaving Demonstration
DESCRIPTION:Join artist Elizabeth James-Perry (Aquinnah Wampanoag) for a demonstration of the Native American art practice of weaving a mat from the inner bark of a cedar tree. After the session\, see her nature-based artworks featured in the Knowing Nature exhibition. James-Perry\, a restoration ecologist\, will also discuss how she sustainably harvests and prepares natural materials from the forest\, including plant dyes\, for her artworks. \n\nElizabeth James-Perry (Aquinnah Wampanoag) engages with Northeastern Woodlands Native cultural expressions\, primarily in sculptural forms of wampum shell carving\, twined basketry and bead making\, with connections to identity and sovereignty\, maritime traditions and restorative Native gardening.
URL:https://www.hawthornehotel.com/event/cedar-bark-mat-weaving-demonstration/
LOCATION:Peabody Essex Museum\, 161 Essex Street\, Salem\, MA\, 01970\, United States
CATEGORIES:Art,Local Events,Museums & Attractions
ATTACH;FMTTYPE=image/jpeg:https://www.hawthornehotel.com/wp-content/uploads/2026/03/Cedar-Bark-Mat-Weaving-Demonstration-hOrQ9D.jpg
END:VEVENT
BEGIN:VEVENT
DTSTART;TZID=America/New_York:20260424T090000
DTEND;TZID=America/New_York:20260424T160000
DTSTAMP:20260420T090605
CREATED:20260330T145821Z
LAST-MODIFIED:20260413T145852Z
UID:10010998-1777021200-1777046400@www.hawthornehotel.com
SUMMARY:Creative Kids: Knowing Nature
DESCRIPTION:Creative Kids: Knowing Nature will engage students ages 11–13 with PEM’s current exhibition Knowing Nature: Stories of the Boreal Forest and the interactive Art & Nature Center. Students will spend the week exploring themes of the natural world\, trekking through the gardens and green spaces on PEM’s campus and making art\, writing and creating multimedia works in response to their experiences. \nProgram is one week long. Program runs Monday\, April 20–Friday\, April 24\, 2026.
URL:https://www.hawthornehotel.com/event/creative-kids-knowing-nature-5/
LOCATION:Peabody Essex Museum\, 161 Essex Street\, Salem\, MA\, 01970\, United States
CATEGORIES:Art,Family,Local Events,Museums & Attractions
ATTACH;FMTTYPE=image/jpeg:https://www.hawthornehotel.com/wp-content/uploads/2026/03/Knowing-Nature-v3273e.jpg
END:VEVENT
BEGIN:VEVENT
DTSTART;TZID=America/New_York:20260425T140000
DTEND;TZID=America/New_York:20260425T150000
DTSTAMP:20260420T090605
CREATED:20260330T145822Z
LAST-MODIFIED:20260413T145922Z
UID:10011000-1777125600-1777129200@www.hawthornehotel.com
SUMMARY:Field Studies (Symbiosis) Performance and Q&A
DESCRIPTION:Field Studies (Symbiosis) looks at forest ecology from a variety of perspectives\, beginning with an aerial overview of the Canadian Boreal Forest and moving through the dynamic processes that shape the landscape\, including wind\, water\, pollination and the hidden forest communication channels of the micro-rhizomes in the soil. Three multidisciplinary artists collaborated over nine months and completed a weeklong residency at PEM to produce this 30-minute performance-based installation. Their project engaged the natural world through deep investigations of the land\, siting filming in the wild and collaborating with natural scientists.
URL:https://www.hawthornehotel.com/event/field-studies-symbiosis-performance-and-qa/
LOCATION:Peabody Essex Museum\, 161 Essex Street\, Salem\, MA\, 01970\, United States
CATEGORIES:Art,Community,Local Events,Museums & Attractions
ATTACH;FMTTYPE=image/jpeg:https://www.hawthornehotel.com/wp-content/uploads/2026/03/Field-Studies-Symbiosis-Performance-and-QA-jmAO3g.jpg
END:VEVENT
BEGIN:VEVENT
DTSTART;TZID=America/New_York:20260426T140000
DTEND;TZID=America/New_York:20260426T150000
DTSTAMP:20260420T090605
CREATED:20260330T145826Z
LAST-MODIFIED:20260413T145938Z
UID:10011001-1777212000-1777215600@www.hawthornehotel.com
SUMMARY:Field Studies (Symbiosis) Performance and Q&A
DESCRIPTION:Field Studies (Symbiosis) looks at forest ecology from a variety of perspectives\, beginning with an aerial overview of the Canadian Boreal Forest and moving through the dynamic processes that shape the landscape\, including wind\, water\, pollination and the hidden forest communication channels of the micro-rhizomes in the soil. Three multidisciplinary artists collaborated over nine months and completed a weeklong residency at PEM to produce this 30-minute performance-based installation. Their project engaged the natural world through deep investigations of the land\, siting filming in the wild and collaborating with natural scientists.
URL:https://www.hawthornehotel.com/event/field-studies-symbiosis-performance-and-qa-2/
LOCATION:Peabody Essex Museum\, 161 Essex Street\, Salem\, MA\, 01970\, United States
CATEGORIES:Art,Community,Local Events,Museums & Attractions
ATTACH;FMTTYPE=image/jpeg:https://www.hawthornehotel.com/wp-content/uploads/2026/03/Field-Studies-Symbiosis-Performance-and-QA-jmAO3g.jpg
END:VEVENT
END:VCALENDAR