BEGIN:VCALENDAR
VERSION:2.0
PRODID:-//Hawthorne Hotel - ECPv6.15.20//NONSGML v1.0//EN
CALSCALE:GREGORIAN
METHOD:PUBLISH
X-WR-CALNAME:Hawthorne Hotel
X-ORIGINAL-URL:https://www.hawthornehotel.com
X-WR-CALDESC:Events for Hawthorne Hotel
REFRESH-INTERVAL;VALUE=DURATION:PT1H
X-Robots-Tag:noindex
X-PUBLISHED-TTL:PT1H
BEGIN:VTIMEZONE
TZID:America/New_York
BEGIN:DAYLIGHT
TZOFFSETFROM:-0500
TZOFFSETTO:-0400
TZNAME:EDT
DTSTART:20250309T070000
END:DAYLIGHT
BEGIN:STANDARD
TZOFFSETFROM:-0400
TZOFFSETTO:-0500
TZNAME:EST
DTSTART:20251102T060000
END:STANDARD
BEGIN:DAYLIGHT
TZOFFSETFROM:-0500
TZOFFSETTO:-0400
TZNAME:EDT
DTSTART:20260308T070000
END:DAYLIGHT
BEGIN:STANDARD
TZOFFSETFROM:-0400
TZOFFSETTO:-0500
TZNAME:EST
DTSTART:20261101T060000
END:STANDARD
BEGIN:DAYLIGHT
TZOFFSETFROM:-0500
TZOFFSETTO:-0400
TZNAME:EDT
DTSTART:20270314T070000
END:DAYLIGHT
BEGIN:STANDARD
TZOFFSETFROM:-0400
TZOFFSETTO:-0500
TZNAME:EST
DTSTART:20271107T060000
END:STANDARD
END:VTIMEZONE
BEGIN:VEVENT
DTSTART;TZID=America/New_York:20260422T190000
DTEND;TZID=America/New_York:20260422T210000
DTSTAMP:20260420T142044
CREATED:20260413T145837Z
LAST-MODIFIED:20260420T151351Z
UID:10011057-1776884400-1776891600@www.hawthornehotel.com
SUMMARY:Plastic People – Earth Day Free Screening w/ Q&A
DESCRIPTION:Please register in advance to claim your tickets. \nPlastic People is an award-winning feature documentary that chronicles humanity’s fraught relationship with plastic and one woman’s mission to expose shocking new revelations about the impact of microplastics on human health. Following the film there will be short presentations and Q&A with panelists.
URL:https://www.hawthornehotel.com/event/plastic-people-earth-day-free-screening-w-qa/
LOCATION:The Cabot\, 286 Cabot Street\, Beverly\, MA\, 01915\, United States
CATEGORIES:Beyond Salem,Films,Free,Local Events
ATTACH;FMTTYPE=image/png:https://www.hawthornehotel.com/wp-content/uploads/2026/04/plastic-people-WoaMfQ.png
END:VEVENT
END:VCALENDAR