BEGIN:VCALENDAR
VERSION:2.0
PRODID:-//Hawthorne Hotel - ECPv6.15.20//NONSGML v1.0//EN
CALSCALE:GREGORIAN
METHOD:PUBLISH
X-ORIGINAL-URL:https://www.hawthornehotel.com
X-WR-CALDESC:Events for Hawthorne Hotel
REFRESH-INTERVAL;VALUE=DURATION:PT1H
X-Robots-Tag:noindex
X-PUBLISHED-TTL:PT1H
BEGIN:VTIMEZONE
TZID:America/New_York
BEGIN:DAYLIGHT
TZOFFSETFROM:-0500
TZOFFSETTO:-0400
TZNAME:EDT
DTSTART:20250309T070000
END:DAYLIGHT
BEGIN:STANDARD
TZOFFSETFROM:-0400
TZOFFSETTO:-0500
TZNAME:EST
DTSTART:20251102T060000
END:STANDARD
BEGIN:DAYLIGHT
TZOFFSETFROM:-0500
TZOFFSETTO:-0400
TZNAME:EDT
DTSTART:20260308T070000
END:DAYLIGHT
BEGIN:STANDARD
TZOFFSETFROM:-0400
TZOFFSETTO:-0500
TZNAME:EST
DTSTART:20261101T060000
END:STANDARD
BEGIN:DAYLIGHT
TZOFFSETFROM:-0500
TZOFFSETTO:-0400
TZNAME:EDT
DTSTART:20270314T070000
END:DAYLIGHT
BEGIN:STANDARD
TZOFFSETFROM:-0400
TZOFFSETTO:-0500
TZNAME:EST
DTSTART:20271107T060000
END:STANDARD
END:VTIMEZONE
BEGIN:VEVENT
DTSTART;TZID=America/New_York:20260424T193000
DTEND;TZID=America/New_York:20260424T220000
DTSTAMP:20260420T081853
CREATED:20260413T145906Z
LAST-MODIFIED:20260413T145906Z
UID:10011059-1777059000-1777068000@www.hawthornehotel.com
SUMMARY:Sweeney Todd: The Demon Barber of Fleet Street
DESCRIPTION:Attend the dark\, witty and Tony Award-winning tale of love\, murder and revenge set against the backdrop of 19th century London. \nSweeney Todd has become a bloody\, worldwide success since being awarded eight Tony’s\, (including Best Musical)\, for its Broadway premiere. Stephen Sondheim’s and Hugh Wheeler’s (A Little Night Music\, Pacific Overtures) tasty\, thrilling\, theatrical treat has simultaneously shocked\, awed and delighted audiences across the world. \nFor mature audiences.
URL:https://www.hawthornehotel.com/event/sweeney-todd-the-demon-barber-of-fleet-street-4/
LOCATION:Sophia Gordon Center for Creative and Performing Arts\, 356 Lafayette Street\, Salem\, MA\, 01970\, United States
CATEGORIES:Entertainment,Local Events,Theater & Musicals
ATTACH;FMTTYPE=image/jpeg:https://www.hawthornehotel.com/wp-content/uploads/2026/04/Sweeney-by-AOT-c3k3FS.jpg
END:VEVENT
BEGIN:VEVENT
DTSTART;TZID=America/New_York:20260425T193000
DTEND;TZID=America/New_York:20260425T220000
DTSTAMP:20260420T081853
CREATED:20260413T145922Z
LAST-MODIFIED:20260413T145922Z
UID:10011062-1777145400-1777154400@www.hawthornehotel.com
SUMMARY:Sweeney Todd: The Demon Barber of Fleet Street
DESCRIPTION:Attend the dark\, witty and Tony Award-winning tale of love\, murder and revenge set against the backdrop of 19th century London. \nSweeney Todd has become a bloody\, worldwide success since being awarded eight Tony’s\, (including Best Musical)\, for its Broadway premiere. Stephen Sondheim’s and Hugh Wheeler’s (A Little Night Music\, Pacific Overtures) tasty\, thrilling\, theatrical treat has simultaneously shocked\, awed and delighted audiences across the world. \nFor mature audiences.
URL:https://www.hawthornehotel.com/event/sweeney-todd-the-demon-barber-of-fleet-street-5/
LOCATION:Sophia Gordon Center for Creative and Performing Arts\, 356 Lafayette Street\, Salem\, MA\, 01970\, United States
CATEGORIES:Entertainment,Local Events,Theater & Musicals
ATTACH;FMTTYPE=image/jpeg:https://www.hawthornehotel.com/wp-content/uploads/2026/04/Sweeney-by-AOT-c3k3FS.jpg
END:VEVENT
BEGIN:VEVENT
DTSTART;TZID=America/New_York:20260426T140000
DTEND;TZID=America/New_York:20260426T153000
DTSTAMP:20260420T081853
CREATED:20260413T145938Z
LAST-MODIFIED:20260413T145938Z
UID:10011065-1777212000-1777217400@www.hawthornehotel.com
SUMMARY:Sweeney Todd: The Demon Barber of Fleet Street
DESCRIPTION:Attend the dark\, witty and Tony Award-winning tale of love\, murder and revenge set against the backdrop of 19th century London. \nSweeney Todd has become a bloody\, worldwide success since being awarded eight Tony’s\, (including Best Musical)\, for its Broadway premiere. Stephen Sondheim’s and Hugh Wheeler’s (A Little Night Music\, Pacific Overtures) tasty\, thrilling\, theatrical treat has simultaneously shocked\, awed and delighted audiences across the world. \nFor mature audiences.
URL:https://www.hawthornehotel.com/event/sweeney-todd-the-demon-barber-of-fleet-street-6/
LOCATION:Sophia Gordon Center for Creative and Performing Arts\, 356 Lafayette Street\, Salem\, MA\, 01970\, United States
CATEGORIES:Entertainment,Local Events,Theater & Musicals
ATTACH;FMTTYPE=image/jpeg:https://www.hawthornehotel.com/wp-content/uploads/2026/04/Sweeney-by-AOT-c3k3FS.jpg
END:VEVENT
END:VCALENDAR