BEGIN:VCALENDAR
VERSION:2.0
PRODID:-//Hawthorne Hotel - ECPv6.15.20//NONSGML v1.0//EN
CALSCALE:GREGORIAN
METHOD:PUBLISH
X-ORIGINAL-URL:https://www.hawthornehotel.com
X-WR-CALDESC:Events for Hawthorne Hotel
REFRESH-INTERVAL;VALUE=DURATION:PT1H
X-Robots-Tag:noindex
X-PUBLISHED-TTL:PT1H
BEGIN:VTIMEZONE
TZID:America/New_York
BEGIN:DAYLIGHT
TZOFFSETFROM:-0500
TZOFFSETTO:-0400
TZNAME:EDT
DTSTART:20250309T070000
END:DAYLIGHT
BEGIN:STANDARD
TZOFFSETFROM:-0400
TZOFFSETTO:-0500
TZNAME:EST
DTSTART:20251102T060000
END:STANDARD
BEGIN:DAYLIGHT
TZOFFSETFROM:-0500
TZOFFSETTO:-0400
TZNAME:EDT
DTSTART:20260308T070000
END:DAYLIGHT
BEGIN:STANDARD
TZOFFSETFROM:-0400
TZOFFSETTO:-0500
TZNAME:EST
DTSTART:20261101T060000
END:STANDARD
BEGIN:DAYLIGHT
TZOFFSETFROM:-0500
TZOFFSETTO:-0400
TZNAME:EDT
DTSTART:20270314T070000
END:DAYLIGHT
BEGIN:STANDARD
TZOFFSETFROM:-0400
TZOFFSETTO:-0500
TZNAME:EST
DTSTART:20271107T060000
END:STANDARD
END:VTIMEZONE
BEGIN:VEVENT
DTSTART;TZID=America/New_York:20260420T190000
DTEND;TZID=America/New_York:20260420T210000
DTSTAMP:20260420T052538
CREATED:20260323T151355Z
LAST-MODIFIED:20260413T145822Z
UID:10010937-1776711600-1776718800@www.hawthornehotel.com
SUMMARY:Open Mic Night
DESCRIPTION:INDUSTRY NIGHT OPEN MIC\n6:30pm Sign Ups Start\n7-9pm Open Mic\nFirst come\, first serve\, with PA provided.\nDrink\, sing\, and be merry with your host and bartender\, Dylan!
URL:https://www.hawthornehotel.com/event/open-mic-night-11/
LOCATION:East Regiment Beer Company\, 30 Church St\, Salem\, MA\, 01970\, United States
CATEGORIES:Community,Food & Drinks,Local Events,Music
ATTACH;FMTTYPE=image/jpeg:https://www.hawthornehotel.com/wp-content/uploads/2026/01/ERBCOpenMicDestSalemIcon-Np6FRv.jpg
END:VEVENT
BEGIN:VEVENT
DTSTART;TZID=America/New_York:20260421T190000
DTEND;TZID=America/New_York:20260421T210000
DTSTAMP:20260420T052538
CREATED:20260323T151355Z
LAST-MODIFIED:20260413T145836Z
UID:10010939-1776798000-1776805200@www.hawthornehotel.com
SUMMARY:Tuesday Trivia @ ERBC
DESCRIPTION:Join us for a 5 rounds of general-knowledge pub trivia! One finally Jeopardy-style question for all the marbles–winning team goes home with a gift card and bragging rights!
URL:https://www.hawthornehotel.com/event/tuesday-trivia-erbc-5/
LOCATION:East Regiment Beer Company\, 30 Church St\, Salem\, MA\, 01970\, United States
CATEGORIES:Community,Entertainment,Food & Drinks,Free,Local Events,Nightlife
ATTACH;FMTTYPE=image/jpeg:https://www.hawthornehotel.com/wp-content/uploads/2026/01/ERBC-Trivia-Tuesday-scaled-sMeBi0.jpg
END:VEVENT
BEGIN:VEVENT
DTSTART;TZID=America/New_York:20260423T180000
DTEND;TZID=America/New_York:20260423T190000
DTSTAMP:20260420T052538
CREATED:20260330T145758Z
LAST-MODIFIED:20260413T145852Z
UID:10010968-1776967200-1776970800@www.hawthornehotel.com
SUMMARY:East Reggie Run Club
DESCRIPTION:Calling all runners! Are you ready to lace up your shoes\, hit the pavement\, and join a fantastic community of like-minded individuals? Look no further than the Thursday Night Regiment\, East Regiment Beer Company’s very own run club\, designed to bring together runners of all levels for an incredible weekly experience. Every Thursday at 6pm. Running in a group offers numerous benefits beyond the physical. It provides motivation\, accountability\, and safety while building camaraderie that can make long miles feel effortless. Together\, we’ll explore the beautiful streets and scenic routes of Salem!
URL:https://www.hawthornehotel.com/event/east-reggie-run-club-2/
LOCATION:East Regiment Beer Company\, 30 Church St\, Salem\, MA\, 01970\, United States
CATEGORIES:Community,Free,Local Events,Outdoors
ATTACH;FMTTYPE=image/png:https://www.hawthornehotel.com/wp-content/uploads/2026/01/Screenshot-2026-01-28-at-2.15.49-PM-YbquLa.png
END:VEVENT
BEGIN:VEVENT
DTSTART;TZID=America/New_York:20260427T150000
DTEND;TZID=America/New_York:20260427T170000
DTSTAMP:20260420T052538
CREATED:20260413T145940Z
LAST-MODIFIED:20260413T145940Z
UID:10011067-1777302000-1777309200@www.hawthornehotel.com
SUMMARY:Chantey Night / Pub Sing
DESCRIPTION:Haven’t been to a pub sing? Join the fun of easy\, repetitive songs that make it easy to learn and join in! Hear some old worker chants\, pirate songs\, songs that originated in Salem & more!
URL:https://www.hawthornehotel.com/event/chantey-night-pub-sing/
LOCATION:East Regiment Beer Company\, 30 Church St\, Salem\, MA\, 01970\, United States
CATEGORIES:Community,Culture,Free,History,Local Events,Music
ATTACH;FMTTYPE=image/jpeg:https://www.hawthornehotel.com/wp-content/uploads/2026/03/East-Regiment-Sing-PJRbv7.jpg
END:VEVENT
BEGIN:VEVENT
DTSTART;TZID=America/New_York:20260427T190000
DTEND;TZID=America/New_York:20260427T210000
DTSTAMP:20260420T052538
CREATED:20260330T145816Z
LAST-MODIFIED:20260413T145952Z
UID:10010992-1777316400-1777323600@www.hawthornehotel.com
SUMMARY:Open Mic Night
DESCRIPTION:INDUSTRY NIGHT OPEN MIC\n6:30pm Sign Ups Start\n7-9pm Open Mic\nFirst come\, first serve\, with PA provided.\nDrink\, sing\, and be merry with your host and bartender\, Dylan!
URL:https://www.hawthornehotel.com/event/open-mic-night-6/
LOCATION:East Regiment Beer Company\, 30 Church St\, Salem\, MA\, 01970\, United States
CATEGORIES:Community,Food & Drinks,Local Events,Music
ATTACH;FMTTYPE=image/jpeg:https://www.hawthornehotel.com/wp-content/uploads/2026/01/ERBCOpenMicDestSalemIcon-Np6FRv.jpg
END:VEVENT
BEGIN:VEVENT
DTSTART;TZID=America/New_York:20260428T190000
DTEND;TZID=America/New_York:20260428T210000
DTSTAMP:20260420T052538
CREATED:20260330T145816Z
LAST-MODIFIED:20260413T145953Z
UID:10010993-1777402800-1777410000@www.hawthornehotel.com
SUMMARY:Tuesday Trivia @ ERBC
DESCRIPTION:Join us for a 5 rounds of general-knowledge pub trivia! One finally Jeopardy-style question for all the marbles–winning team goes home with a gift card and bragging rights!
URL:https://www.hawthornehotel.com/event/tuesday-trivia-erbc-2/
LOCATION:East Regiment Beer Company\, 30 Church St\, Salem\, MA\, 01970\, United States
CATEGORIES:Community,Entertainment,Food & Drinks,Free,Local Events,Nightlife
ATTACH;FMTTYPE=image/jpeg:https://www.hawthornehotel.com/wp-content/uploads/2026/01/ERBC-Trivia-Tuesday-scaled-sMeBi0.jpg
END:VEVENT
BEGIN:VEVENT
DTSTART;TZID=America/New_York:20260430T180000
DTEND;TZID=America/New_York:20260430T190000
DTSTAMP:20260420T052538
CREATED:20260406T150024Z
LAST-MODIFIED:20260413T145954Z
UID:10011013-1777572000-1777575600@www.hawthornehotel.com
SUMMARY:East Reggie Run Club
DESCRIPTION:Calling all runners! Are you ready to lace up your shoes\, hit the pavement\, and join a fantastic community of like-minded individuals? Look no further than the Thursday Night Regiment\, East Regiment Beer Company’s very own run club\, designed to bring together runners of all levels for an incredible weekly experience. Every Thursday at 6pm. Running in a group offers numerous benefits beyond the physical. It provides motivation\, accountability\, and safety while building camaraderie that can make long miles feel effortless. Together\, we’ll explore the beautiful streets and scenic routes of Salem!
URL:https://www.hawthornehotel.com/event/east-reggie-run-club-3/
LOCATION:East Regiment Beer Company\, 30 Church St\, Salem\, MA\, 01970\, United States
CATEGORIES:Community,Free,Local Events,Outdoors
ATTACH;FMTTYPE=image/png:https://www.hawthornehotel.com/wp-content/uploads/2026/01/Screenshot-2026-01-28-at-2.15.49-PM-YbquLa.png
END:VEVENT
BEGIN:VEVENT
DTSTART;TZID=America/New_York:20260504T190000
DTEND;TZID=America/New_York:20260504T210000
DTSTAMP:20260420T052538
CREATED:20260406T150123Z
LAST-MODIFIED:20260413T150036Z
UID:10011036-1777921200-1777928400@www.hawthornehotel.com
SUMMARY:Open Mic Night
DESCRIPTION:INDUSTRY NIGHT OPEN MIC\n6:30pm Sign Ups Start\n7-9pm Open Mic\nFirst come\, first serve\, with PA provided.\nDrink\, sing\, and be merry with your host and bartender\, Dylan!
URL:https://www.hawthornehotel.com/event/open-mic-night-8/
LOCATION:East Regiment Beer Company\, 30 Church St\, Salem\, MA\, 01970\, United States
CATEGORIES:Community,Food & Drinks,Local Events,Music
ATTACH;FMTTYPE=image/jpeg:https://www.hawthornehotel.com/wp-content/uploads/2026/01/ERBCOpenMicDestSalemIcon-Np6FRv.jpg
END:VEVENT
BEGIN:VEVENT
DTSTART;TZID=America/New_York:20260505T190000
DTEND;TZID=America/New_York:20260505T210000
DTSTAMP:20260420T052538
CREATED:20260406T150123Z
LAST-MODIFIED:20260413T150036Z
UID:10011037-1778007600-1778014800@www.hawthornehotel.com
SUMMARY:Tuesday Trivia @ ERBC
DESCRIPTION:Join us for a 5 rounds of general-knowledge pub trivia! One finally Jeopardy-style question for all the marbles–winning team goes home with a gift card and bragging rights!
URL:https://www.hawthornehotel.com/event/tuesday-trivia-erbc-6/
LOCATION:East Regiment Beer Company\, 30 Church St\, Salem\, MA\, 01970\, United States
CATEGORIES:Community,Entertainment,Food & Drinks,Free,Local Events,Nightlife
ATTACH;FMTTYPE=image/jpeg:https://www.hawthornehotel.com/wp-content/uploads/2026/01/ERBC-Trivia-Tuesday-scaled-sMeBi0.jpg
END:VEVENT
BEGIN:VEVENT
DTSTART;TZID=America/New_York:20260507T180000
DTEND;TZID=America/New_York:20260507T190000
DTSTAMP:20260420T052538
CREATED:20260413T150037Z
LAST-MODIFIED:20260413T150037Z
UID:10011071-1778176800-1778180400@www.hawthornehotel.com
SUMMARY:East Reggie Run Club
DESCRIPTION:Calling all runners! Are you ready to lace up your shoes\, hit the pavement\, and join a fantastic community of like-minded individuals? Look no further than the Thursday Night Regiment\, East Regiment Beer Company’s very own run club\, designed to bring together runners of all levels for an incredible weekly experience. Every Thursday at 6pm. Running in a group offers numerous benefits beyond the physical. It provides motivation\, accountability\, and safety while building camaraderie that can make long miles feel effortless. Together\, we’ll explore the beautiful streets and scenic routes of Salem!
URL:https://www.hawthornehotel.com/event/east-reggie-run-club/
LOCATION:East Regiment Beer Company\, 30 Church St\, Salem\, MA\, 01970\, United States
CATEGORIES:Community,Free,Local Events,Outdoors
ATTACH;FMTTYPE=image/png:https://www.hawthornehotel.com/wp-content/uploads/2026/01/Screenshot-2026-01-28-at-2.15.49-PM-YbquLa.png
END:VEVENT
BEGIN:VEVENT
DTSTART;TZID=America/New_York:20260511T190000
DTEND;TZID=America/New_York:20260511T210000
DTSTAMP:20260420T052538
CREATED:20260413T150106Z
LAST-MODIFIED:20260413T150106Z
UID:10011087-1778526000-1778533200@www.hawthornehotel.com
SUMMARY:Open Mic Night
DESCRIPTION:INDUSTRY NIGHT OPEN MIC\n6:30pm Sign Ups Start\n7-9pm Open Mic\nFirst come\, first serve\, with PA provided.\nDrink\, sing\, and be merry with your host and bartender\, Dylan!
URL:https://www.hawthornehotel.com/event/open-mic-night-2/
LOCATION:East Regiment Beer Company\, 30 Church St\, Salem\, MA\, 01970\, United States
CATEGORIES:Community,Food & Drinks,Local Events,Music
ATTACH;FMTTYPE=image/jpeg:https://www.hawthornehotel.com/wp-content/uploads/2026/01/ERBCOpenMicDestSalemIcon-Np6FRv.jpg
END:VEVENT
BEGIN:VEVENT
DTSTART;TZID=America/New_York:20260512T190000
DTEND;TZID=America/New_York:20260512T210000
DTSTAMP:20260420T052538
CREATED:20260413T150107Z
LAST-MODIFIED:20260413T150107Z
UID:10011089-1778612400-1778619600@www.hawthornehotel.com
SUMMARY:Tuesday Trivia @ ERBC
DESCRIPTION:Join us for a 5 rounds of general-knowledge pub trivia! One finally Jeopardy-style question for all the marbles–winning team goes home with a gift card and bragging rights!
URL:https://www.hawthornehotel.com/event/tuesday-trivia-erbc-3/
LOCATION:East Regiment Beer Company\, 30 Church St\, Salem\, MA\, 01970\, United States
CATEGORIES:Community,Entertainment,Food & Drinks,Free,Local Events,Nightlife
ATTACH;FMTTYPE=image/jpeg:https://www.hawthornehotel.com/wp-content/uploads/2026/01/ERBC-Trivia-Tuesday-scaled-sMeBi0.jpg
END:VEVENT
END:VCALENDAR